BEGIN:VCALENDAR
VERSION:2.0
PRODID:-//ChamberMaster//Event Calendar 2.0//EN
METHOD:PUBLISH
X-PUBLISHED-TTL:P3D
REFRESH-INTERVAL:P3D
CALSCALE:GREGORIAN
BEGIN:VEVENT
DTSTART:20090415T050000Z
DTEND:20090415T050000Z
X-MICROSOFT-CDO-ALLDAYEVENT:FALSE
SUMMARY:Gibby's University: What's Past The Pretzel
DESCRIPTION:Join Dan Scharr\, Windy City Destribution Company for an evening of "all things beer". Dan will pairmore different foods with beer than you would expect. Learn about the different styles and brewing techniques. Dan will surprise your taste buds with beer samples from several microbreweries and a great pairing. Even if you have mixed food and beer in the past\, this will prove to be a unique tastingexperience! Reservations are required / $20 per person
X-ALT-DESC;FMTTYPE=text/html:Join Dan Scharr\, Windy City Destribution Company for an evening of "all things beer". Dan will pairmore different foods with beer than you would expect. Learn about the different styles and brewing techniques. Dan will surprise your taste buds with beer samples from several microbreweries and a great pairing. Even if you have mixed food and beer in the past\, this will prove to be a unique tastingexperience! Reservations are required / $20 per person
LOCATION:Gibby's Wine Den
UID:e.1902.911
SEQUENCE:3
DTSTAMP:20260421T135300Z
URL:https://business.bataviachamber.org/events/details/gibby-s-university-what-s-past-the-pretzel-04-15-2009-911
END:VEVENT

END:VCALENDAR
