BEGIN:VCALENDAR
VERSION:2.0
PRODID:-//ChamberMaster//Event Calendar 2.0//EN
METHOD:PUBLISH
X-PUBLISHED-TTL:P3D
REFRESH-INTERVAL:P3D
CALSCALE:GREGORIAN
BEGIN:VEVENT
DTSTART:20090420T050000Z
DTEND:20090420T050000Z
X-MICROSOFT-CDO-ALLDAYEVENT:FALSE
SUMMARY:Gibby's University ~ Rhone\, France Class
DESCRIPTION:Located in south eastern France\, the predominant grapes are red. The nuances and history influence the interesting wines that emerge from this lesser known area. Taste through expamles of the influence of different soils and climates. $25 per person / reservations required.
X-ALT-DESC;FMTTYPE=text/html:Located in south eastern France\, the predominant grapes are red. The nuances and history influence the interesting wines that emerge from this lesser known area. Taste through expamles of the influence of different soils and climates. $25 per person / reservations required.
LOCATION:Gibby's Wine Den
UID:e.1902.919
SEQUENCE:3
DTSTAMP:20260421T134416Z
URL:https://business.bataviachamber.org/events/details/gibby-s-university-rhone-france-class-04-20-2009-919
END:VEVENT

END:VCALENDAR
