BEGIN:VCALENDAR
VERSION:2.0
PRODID:-//ChamberMaster//Event Calendar 2.0//EN
METHOD:PUBLISH
X-PUBLISHED-TTL:P3D
REFRESH-INTERVAL:P3D
CALSCALE:GREGORIAN
BEGIN:VEVENT
DTSTART:20090511T050000Z
DTEND:20090511T050000Z
X-MICROSOFT-CDO-ALLDAYEVENT:FALSE
SUMMARY:Gibby's University ~ Paso Robles\, California
DESCRIPTION:Located in Central California\, this region is fast becoming a major wine destination. Learn why "ThePass of Oaks" has so many great wines to offer. Savor what this unique terroir produces as we windour way through this appellation. $25 / person\, reservations required.
X-ALT-DESC;FMTTYPE=text/html:Located in Central California\, this region is fast becoming a major wine destination. Learn why "ThePass of Oaks" has so many great wines to offer. Savor what this unique terroir produces as we windour way through this appellation. $25 / person\, reservations required.
LOCATION:Gibby's Wine Den
UID:e.1902.946
SEQUENCE:3
DTSTAMP:20260421T105242Z
URL:https://business.bataviachamber.org/events/details/gibby-s-university-paso-robles-california-05-11-2009-946
END:VEVENT

END:VCALENDAR
