BEGIN:VCALENDAR
VERSION:2.0
PRODID:-//ChamberMaster//Event Calendar 2.0//EN
METHOD:PUBLISH
X-PUBLISHED-TTL:P3D
REFRESH-INTERVAL:P3D
CALSCALE:GREGORIAN
BEGIN:VEVENT
DTSTART:20110715T050000Z
DTEND:20110715T050000Z
X-MICROSOFT-CDO-ALLDAYEVENT:FALSE
SUMMARY:Gibby's French Connection
DESCRIPTION:Thirty five years ago the now famous “Judgment at Paris” marked the entry\nof Napa Valley wines to the world stage. In a tribute to all of the wines tasted at the event and Bastille Day\, a mix of French and Napa Valley wines will be on the bar menu today!  There will be raffle prizes that are so French!
X-ALT-DESC;FMTTYPE=text/html:Thirty five years ago the now famous “Judgment at Paris” marked the entry\nof Napa Valley wines to the world stage. In a tribute to all of the wines tasted at the event and Bastille Day\, a mix of French and Napa Valley wines will be on the bar menu today!  There will be raffle prizes that are so French!\n
LOCATION:Gibby's Wine Den
UID:e.1902.295
SEQUENCE:3
DTSTAMP:20260419T145458Z
URL:https://business.bataviachamber.org/events/details/gibby-s-french-connection-07-15-2011-295
END:VEVENT

END:VCALENDAR
