BEGIN:VCALENDAR
VERSION:2.0
PRODID:-//ChamberMaster//Event Calendar 2.0//EN
METHOD:PUBLISH
X-PUBLISHED-TTL:P3D
REFRESH-INTERVAL:P3D
CALSCALE:GREGORIAN
BEGIN:VEVENT
DTSTART:20101107T050000Z
DTEND:20101107T050000Z
X-MICROSOFT-CDO-ALLDAYEVENT:FALSE
SUMMARY:Getting it Right: Creating a Healthy Lifestyle for You and Y
DESCRIPTION:The workshop is divided into three\, 30 minute sessions followed by a panel Q  Nathan Conroy\, DC\; and Deepa Deshmukh\, MPH\, RD\, CDE\, BC-ADM. Ms. Johnson\, a clinical educator at Provena Mercy Medical Center\, will discuss childhood obesity\, itscauses\, the emotional\, physical and social complications caused by it\, and what parents can do to prevent it. Dr. Conroy\, a highly respected local chiropractor\, will discuss the three main types of stress present in our lives and how to reduce their effects on ourselves and our children. Ms. Deshmukh is a registered dietitian and health consultant with DuPage Dietitians. She will discuss the importance of good nutrition for children’s developing brains\, how to establish good eating habits for the entire family\, and what to put in your pantry for quick\, healthy snacks and meals. \n“As a school\, we feel strongly about providing useful information to all parents in our community\,” said GeorgeMarkham\, Executive Director at the school. “Creating a healthy lifestyle for our children can be a challenge\, so we decided to bring in these experts as part of our ongoing Parenting Workshop series.”\nConcurrent educational (and fun!) children’s activities on these same topics will be available andkids age three to 10 are encouraged to attend. In addition\, refreshments will be served.\n(more)\nAbout Montessori Academy\nCelebrating its 40th year of serving the community\, Montessori Academy provides a quality\, nurturing \neducation for children age three through eight grade. The school utilizes the Montessori Method to create a love of learning and self-confidence in every child. Nestledon a six-acre\, wooded lot on the Fox River\, the school is an associate member of the American Montessori Society (AMS) and employs AMS-certified teachers. For more information\, contact 630-879-2586\, info@montessoribatavia.com or  www.montessoribatavia.com.
X-ALT-DESC;FMTTYPE=text/html:The workshop is divided into three\, 30 minute sessions followed by a panel Q&A. Leading the sessionsare: Tammie Johnson\, RN\, MSN\, CMSRN\; Nathan Conroy\, DC\; and Deepa Deshmukh\, MPH\, RD\, CDE\, BC-ADM. Ms. Johnson\, a clinical educator at Provena Mercy Medical Center\, will discuss childhood obesity\, itscauses\, the emotional\, physical and social complications caused by it\, and what parents can do to prevent it. Dr. Conroy\, a highly respected local chiropractor\, will discuss the three main types of stress present in our lives and how to reduce their effects on ourselves and our children. Ms. Deshmukh is a registered dietitian and health consultant with DuPage Dietitians. She will discuss the importance of good nutrition for children’s developing brains\, how to establish good eating habits for the entire family\, and what to put in your pantry for quick\, healthy snacks and meals. \n“As a school\, we feel strongly about providing useful information to all parents in our community\,” said GeorgeMarkham\, Executive Director at the school. “Creating a healthy lifestyle for our children can be a challenge\, so we decided to bring in these experts as part of our ongoing Parenting Workshop series.”\nConcurrent educational (and fun!) children’s activities on these same topics will be available andkids age three to 10 are encouraged to attend. In addition\, refreshments will be served.\n(more)\nAbout Montessori Academy\nCelebrating its 40th year of serving the community\, Montessori Academy provides a quality\, nurturing \neducation for children age three through eight grade. The school utilizes the Montessori Method to create a love of learning and self-confidence in every child. Nestledon a six-acre\, wooded lot on the Fox River\, the school is an associate member of the American Montessori Society (AMS) and employs AMS-certified teachers. For more information\, contact 630-879-2586\, info@montessoribatavia.com or  www.montessoribatavia.com.
LOCATION:Montessori Academy
UID:e.1902.84
SEQUENCE:3
DTSTAMP:20260420T024132Z
URL:https://business.bataviachamber.org/events/details/getting-it-right-creating-a-healthy-lifestyle-for-you-and-y-11-07-2010-84
END:VEVENT

END:VCALENDAR
