BEGIN:VCALENDAR
VERSION:2.0
PRODID:-//ChamberMaster//Event Calendar 2.0//EN
METHOD:PUBLISH
X-PUBLISHED-TTL:P3D
REFRESH-INTERVAL:P3D
CALSCALE:GREGORIAN
BEGIN:VEVENT
DTSTART:20101013T130000Z
DTEND:20101013T143000Z
X-MICROSOFT-CDO-ALLDAYEVENT:FALSE
SUMMARY:(Geneva) Business Plan Workshop - Part 1
DESCRIPTION:It's a dog eat dog world out there - are you wearing milk-bone underwear? A business plan doesn't have to be an academic exercise\, and is NOT just for start-ups. This hands-on\, interactive workshop will get you started on a business plan you can actually use. We will focus on two areas of business planning that most businesses struggle with: market analysis/strategic marketing and financial forecasting. Join us as guest speaker Harriet Parker of the Illinois Small Business Development Center guides us through a 2-part workshop on developing (or updating) a business plan. Optional: Bring a charged laptop if you prefer it to working on paper. The templates we will be using are MS Office\, so if you are a Mac user\, be advised. Printed materials will also be provided. Part I - Wednesday\, October 13\, 2010 - 8:00 am Part II - Wednesday\, October 20\, 2010 - 8:00 am Location: The Geneva History Center\, 113 S. Third Street in Geneva Time: 8:00 am - 9:30 am - both dates Cost: Members - $25 for both sessions Non-members - $25 per session Limited seating - reservations recommended. For reservations or more information call the Geneva Chamber at 630-232-6060 or email jcarroll@genevachamber.com
X-ALT-DESC;FMTTYPE=text/html:<DIV style="FONT-FAMILY: Arial" align=center><SPAN style="FONT-SIZE: 9pt\; FONT-FAMILY: 'Gill Sans MT'\; mso-default-font-family: 'Gill Sans MT'\; mso-ascii-font-family: 'Gill Sans MT'\; mso-latin-font-family: 'Gill Sans MT'\; mso-latinext-font-family: 'Gill Sans MT'\; language: EN\; mso-ansi-language: EN"><FONT size=4><FONT color=#0f0f0f><FONT face="Times New Roman"><B><FONT size=5><P align=center>It's a dog eat dog world out there - are you wearing milk-bone underwear? </P></B></FONT><FONT face=Garamond\,Garamond size=3><FONT face=Garamond\,Garamond size=3><P align=left>A business plan doesn't have to be an academic exercise\, and is NOT just for start-ups. This hands-on\, interactive workshop will get you started on a business plan you can actually use. We will focus on two areas of business planning that most businesses struggle with: market analysis/strategic marketing and financial forecasting. </P><P align=left>Join us as guest speaker Harriet Parker of the Illinois Small Business Development Center guides us through a 2-part workshop on developing (or updating) a business plan. </P><P align=left>Optional: Bring a charged laptop if you prefer it to working on paper. The templates we will be using are MS Office\, so if you are a Mac user\, be advised. Printed materials will also be provided. </P><P align=center>Part I - Wednesday\, October 13\, 2010 - 8:00 am </P><P align=center>Part II - Wednesday\, October 20\, 2010 - 8:00 am </P><P align=center>Location: The Geneva History Center\, 113 S. Third Street in Geneva </P><P align=center>Time: 8:00 am - 9:30 am - both dates </P><P align=center>Cost: Members - $25 for both sessions </P><P align=center>Non-members - $25 per session </P><P><STRONG>Limited seating - reservations recommended. For reservations or more information call the Geneva Chamber at 630-232-6060 or email <U><A href="mailto:jcarroll@genevachamber.com">jcarroll@genevachamber.com</A> &nbsp\;</P></U></STRONG></FONT></FONT></DIV></FONT></FONT></FONT></SPAN>
LOCATION:Geneva History Center
UID:e.1902.1832
SEQUENCE:3
DTSTAMP:20260420T054143Z
URL:https://business.bataviachamber.org/events/details/geneva-business-plan-workshop-part-1-10-13-2010-1832
END:VEVENT

END:VCALENDAR
