BEGIN:VCALENDAR
VERSION:2.0
PRODID:-//ChamberMaster//Event Calendar 2.0//EN
METHOD:PUBLISH
X-PUBLISHED-TTL:P3D
REFRESH-INTERVAL:P3D
CALSCALE:GREGORIAN
BEGIN:VEVENT
DTSTART:20260530T180000Z
DTEND:20260530T200000Z
X-MICROSOFT-CDO-ALLDAYEVENT:FALSE
SUMMARY:General Hospital’s Chris L. McKenna & Rory Gibson
DESCRIPTION:Join two of General Hospital's most recent new cast members LIVE at The Comedy Vault. Dish all things General Hospital with "Jack Brennan" and "Michael Corinthos." Two of the actors currently part of Carly's World will bring your favorite soap opera to life on our stage. Q and A\, GH talk\, and with a VIP ticket\, autographs and photo ops!\n\n \n\nChris L. McKenna is the most recent actor to join the cast of General Hospital\, portraying the character of Jack Brennan\, head of the WSB. He is well known to daytime television audiences for his portrayal of Joey Buchanan on ABC's daytime soap opera One Life to Live from 1990 to 1993. He is also known for playing the lead role in the 2003 film King of the Ants\, a role which earned him critical acclaim. He has also appeared on Young and the Restless\, State of Affairs\, Lucifer\, Good Trouble\, Touched by an Angel and much more .\n\nRory Gibson has appeared in several films and short films\, including A Night to Regret\, Grace\, Twisted Twin\, Severed Road and Rebel Moon   Part One: A Child of Fire. From 2021 to 2023\, he portrayed the role of Noah Newman on the CBS soap opera The Young and the Restless. He is currently playing Michael Corinthos on ABC's General Hospital.\n\n \n\nVIP tickets include a meet and greet after the show with limited autographs (one autograph per star) and then photo ops!\n\n \n\nThis show is 16+. Anyone under 21 must be accompanied by a parent or guardian 35+
X-ALT-DESC;FMTTYPE=text/html:<p><strong><em>Join two of General Hospital&rsquo\;s most recent new cast members LIVE at The Comedy Vault. Dish all things General Hospital with &ldquo\;Jack Brennan&rdquo\; and &ldquo\;Michael Corinthos.&rdquo\;&nbsp\;</em></strong><strong><em>Two of the actors currently part of Carly&rsquo\;s World will bring your favorite soap opera to life on our stage. Q and A\, GH talk\, and with a VIP ticket\, autographs and photo ops!</em></strong></p>\n\n<p>&nbsp\;</p>\n\n<p><strong>Chris L. McKenna&nbsp\;</strong>is the most recent actor to join the cast of General Hospital\, portraying the character of Jack Brennan\, head of the WSB. He is well known to daytime television audiences for his portrayal of Joey Buchanan on ABC&#39\;s daytime soap opera&nbsp\;<em>One Life to Live</em>&nbsp\;from 1990 to 1993. He is also known for playing the lead role in the 2003 film&nbsp\;<em>King of the Ants</em>\, a role which earned him critical acclaim. He has also appeared on Young and the Restless\, State of Affairs\, Lucifer\, Good Trouble\, Touched by an Angel and much more&hellip\;.</p>\n\n<p><strong>Rory Gibson</strong>&nbsp\;has appeared in several films and short films\, including&nbsp\;<em>A Night to Regret</em>\,&nbsp\;<em>Grace</em>\,&nbsp\;<em>Twisted Twin</em>\,&nbsp\;<em>Severed Road</em>&nbsp\;and&nbsp\;<em>Rebel Moon &ndash\; Part One: A Child of Fire</em>. From 2021 to 2023\, he portrayed the role of Noah Newman on the CBS soap opera&nbsp\;<em><em>The Young and the Re</em><em>stless.&nbsp\;</em></em>He is currently playing Michael Corinthos on ABC&#39\;s&nbsp\;<em>General Hospital.</em></p>\n\n<p>&nbsp\;</p>\n\n<p><strong><em>VIP tickets include a meet and greet after the show with limited autographs (one autograph per star) and then photo ops!</em></strong></p>\n\n<p>&nbsp\;</p>\n\n<p><strong>This show is 16+. Anyone under 21 must be accompanied by a parent or guardian 35+</strong></p>\n
LOCATION:The Comedy Vault
UID:e.1902.30673
SEQUENCE:3
DTSTAMP:20260424T150304Z
URL:https://business.bataviachamber.org/events/details/general-hospital-s-chris-l-mckenna-rory-gibson-30673
END:VEVENT

END:VCALENDAR
