BEGIN:VCALENDAR
VERSION:2.0
PRODID:-//ChamberMaster//Event Calendar 2.0//EN
METHOD:PUBLISH
X-PUBLISHED-TTL:P3D
REFRESH-INTERVAL:P3D
CALSCALE:GREGORIAN
BEGIN:VEVENT
DTSTART:20110729T050000Z
DTEND:20110730T050000Z
X-MICROSOFT-CDO-ALLDAYEVENT:FALSE
SUMMARY:Garage Sale Fundraiser
DESCRIPTION:Garage sale - Fundraiser sponsored by Midwest Restoration Services with ALL procedes benefiting thescouting programs for: Cub Scout Pack 15 (Batavia) & Boy Scout Troop 13 (St.Charles)
X-ALT-DESC;FMTTYPE=text/html:Garage sale - Fundraiser sponsored by Midwest Restoration Services with ALL procedes benefiting thescouting programs for: Cub Scout Pack 15 (Batavia) & Boy Scout Troop 13 (St.Charles)
LOCATION:Midwest Restoration Services
UID:e.1902.345
SEQUENCE:3
DTSTAMP:20260419T132350Z
URL:https://business.bataviachamber.org/events/details/garage-sale-fundraiser-07-29-2011-345
END:VEVENT

END:VCALENDAR
