BEGIN:VCALENDAR
VERSION:2.0
PRODID:-//ChamberMaster//Event Calendar 2.0//EN
METHOD:PUBLISH
X-PUBLISHED-TTL:P3D
REFRESH-INTERVAL:P3D
CALSCALE:GREGORIAN
BEGIN:VEVENT
DTSTART:20260206T170000Z
DTEND:20260206T190000Z
X-MICROSOFT-CDO-ALLDAYEVENT:FALSE
SUMMARY:Galentine's Afternoon Tea
DESCRIPTION:Grab a "Gal" friend and Join us for an afternoon of sisterhood & shopping!\n\n\n\n$40 per person\n\n(ticket price includes lunch\, goody bag\, $10 shopping coupon to the little traveler & donation to Lazarus house)\n\nSpecial Raffles & Door prizes for those dazzling in pink or red\n\n(cash or zelle payments accepted for raffles)\n\nRegister Online
X-ALT-DESC;FMTTYPE=text/html:<p>Grab a &ldquo\;Gal&rdquo\; friend and Join us&nbsp\;for an afternoon of sisterhood &amp\; shopping!<br />\n<br />\n$40 per person</p>\n\n<p>(ticket price includes lunch\, goody bag\, $10 shopping coupon to the little traveler &amp\; donation to Lazarus house)</p>\n\n<p>Special Raffles &amp\; Door prizes for those&nbsp\;dazzling in&nbsp\;pink&nbsp\;or&nbsp\;red</p>\n\n<p>(cash or zelle payments accepted for raffles)</p>\n\n<p>Register Online</p>\n
LOCATION:The Little Traveler
UID:e.1902.30676
SEQUENCE:3
DTSTAMP:20260419T132414Z
URL:https://business.bataviachamber.org/events/details/galentine-s-afternoon-tea-30676
END:VEVENT

END:VCALENDAR
