BEGIN:VCALENDAR
VERSION:2.0
PRODID:-//ChamberMaster//Event Calendar 2.0//EN
METHOD:PUBLISH
X-PUBLISHED-TTL:P3D
REFRESH-INTERVAL:P3D
CALSCALE:GREGORIAN
BEGIN:VEVENT
DTSTART:20080416T230000Z
DTEND:20080417T010000Z
X-MICROSOFT-CDO-ALLDAYEVENT:FALSE
SUMMARY:Funway Bowling Challenge - 08/04/16
DESCRIPTION:
X-ALT-DESC;FMTTYPE=text/html:
LOCATION:Funway Entertainment Center
UID:e.1902.1303
SEQUENCE:3
DTSTAMP:20260426T011509Z
URL:https://business.bataviachamber.org/events/details/funway-bowling-challenge-08-04-16-04-16-2008-1303
END:VEVENT

END:VCALENDAR
