BEGIN:VCALENDAR
VERSION:2.0
PRODID:-//ChamberMaster//Event Calendar 2.0//EN
METHOD:PUBLISH
X-PUBLISHED-TTL:P3D
REFRESH-INTERVAL:P3D
CALSCALE:GREGORIAN
BEGIN:VEVENT
DTSTART:20170520T150000Z
DTEND:20170520T163000Z
X-MICROSOFT-CDO-ALLDAYEVENT:FALSE
SUMMARY:Fun Fair 4 Kids
DESCRIPTION:The Fun Fair 4 Kids is designed for children age preschool through Grade 2 and includes face painting\, balloon animals\, games and prizes\, music and singing\, snacks (and coffee for mom and dad)\, and a magician! \n\nThe event is free\, but families are invited to contribute\, if they wish\, to a free will donation being accepted for Spotlight Theatre in memory of Katie Jonak.\n\nFun Fair 4 Kids is co-sponsored by Immanuel Lutheran Church and School in Batavia and St. Mark Lutheran Church and Preschool in St. Charles.
X-ALT-DESC;FMTTYPE=text/html:<p>The Fun Fair 4 Kids is designed for children age preschool through Grade 2 and includes face painting\, balloon animals\, games and prizes\, music and singing\, snacks (and coffee for mom and dad)\, and a magician!&nbsp\;</p>\n\n<p>The event is free\, but families are invited to contribute\, if they wish\, to a free will donation being accepted for Spotlight Theatre in memory of Katie Jonak.</p>\n\n<p>Fun Fair 4 Kids is co-sponsored by Immanuel Lutheran Church and School in Batavia and St. Mark Lutheran Church and Preschool in St. Charles.</p>\n
LOCATION:Fabyan West Forest Preserve 1925 S. Batavia Ave. Geneva\, Illinois 60134
UID:e.1902.6595
SEQUENCE:3
DTSTAMP:20260425T113104Z
URL:https://business.bataviachamber.org/events/details/fun-fair-4-kids-6595
END:VEVENT

END:VCALENDAR
