BEGIN:VCALENDAR
VERSION:2.0
PRODID:-//ChamberMaster//Event Calendar 2.0//EN
METHOD:PUBLISH
X-PUBLISHED-TTL:P3D
REFRESH-INTERVAL:P3D
CALSCALE:GREGORIAN
BEGIN:VEVENT
DTSTART:20240126T010000Z
DTEND:20240126T023000Z
X-MICROSOFT-CDO-ALLDAYEVENT:FALSE
SUMMARY:Full Moon Meditation
DESCRIPTION:Thursday\, January 25th at 7pm - Full Moon Meditation Event\n\nA full moon brings powerful energy\, clarity\, and awareness. This is the perfect time to release any pent-up energy\, attitudes\, wounding\, and emotion.\n\nThis full moon\, The Wolf Moon\, takes place across the zodiac in fire sign Leo\; and will bring emphasis on creative self-expression.\n\nLeo's energy can leave us striving for the balance between our individual ego and relational needs.\n\nThis event will include breathwork\, a guided meditation\, and a safe space to share and connect with others about what you experienced.\n\nHosted by Jamie Kruse.\n\nInvestment is $36. Payment and tickets can be reserved via this link. We can't wait to see you there!\n\nTorus Tribe Bundle January: New Moon & Full Moon for $60.
X-ALT-DESC;FMTTYPE=text/html:<p><strong>Thursday\, January 25th at 7pm - Full Moon Meditation Event</strong></p>\n\n<p>A full moon brings powerful energy\, clarity\, and awareness. This is the perfect time to release any pent-up energy\, attitudes\, wounding\, and emotion.</p>\n\n<p>This full moon\, The Wolf Moon\, takes place across the zodiac in fire sign Leo\; and will bring emphasis on creative self-expression.</p>\n\n<p>Leo&#39\;s energy can leave us striving for the balance between our individual ego and relational needs.</p>\n\n<p>This event will include breathwork\, a guided meditation\, and a safe space to share and connect with others about what you experienced.</p>\n\n<p>Hosted by <a href="https://torus-therapy.com/about-torus-therapy/">Jamie Kruse</a>.</p>\n\n<p>Investment is $36. Payment and tickets can be reserved via this <a href="https://torus-therapy.com/event/full-moon-meditation-january/#tribe-tickets__tickets-form" target="_blank">link</a>. We can&rsquo\;t wait to see you there!</p>\n\n<p>Torus Tribe Bundle January: New Moon &amp\; Full Moon for $60.</p>\n
LOCATION:Torus Center for Integrative Healing 121 Flinn St Batavia\, IL 60510
UID:e.1902.22422
SEQUENCE:3
DTSTAMP:20260419T152509Z
URL:https://business.bataviachamber.org/events/details/full-moon-meditation-01-25-2024-22422
END:VEVENT

END:VCALENDAR
