BEGIN:VCALENDAR
VERSION:2.0
PRODID:-//ChamberMaster//Event Calendar 2.0//EN
METHOD:PUBLISH
X-PUBLISHED-TTL:P3D
REFRESH-INTERVAL:P3D
CALSCALE:GREGORIAN
BEGIN:VEVENT
DTSTART:20221112T151500Z
DTEND:20221112T190000Z
X-MICROSOFT-CDO-ALLDAYEVENT:FALSE
SUMMARY:Friends of the Batavia Public Library Book Sale
DESCRIPTION:The holidays are on the horizon. How is your holiday shopping going? Discover gift-quality books and materials\, at very low prices\, at the Friends of the Batavia Public Library Book Sale\, on Sat.\, Nov. 12\, from 9:15 am-1 pm. Learn more at batavia.libnet.info/event/6197420.
X-ALT-DESC;FMTTYPE=text/html:The holidays are on the horizon. How is your holiday shopping going? Discover gift-quality books and materials\, at very low prices\, at the Friends of the Batavia Public Library Book Sale\, on Sat.\, Nov. 12\, from 9:15 am-1 pm. Learn more at batavia.libnet.info/event/6197420.
LOCATION:Batavia Public Library\, FriendSpace\, 10 S. Batavia Ave.\, Batavia
UID:e.1902.16721
SEQUENCE:3
DTSTAMP:20260420T144334Z
URL:https://business.bataviachamber.org/events/details/friends-of-the-batavia-public-library-book-sale-11-12-2022-16721
END:VEVENT

END:VCALENDAR
