BEGIN:VCALENDAR
VERSION:2.0
PRODID:-//ChamberMaster//Event Calendar 2.0//EN
METHOD:PUBLISH
X-PUBLISHED-TTL:P3D
REFRESH-INTERVAL:P3D
CALSCALE:GREGORIAN
BEGIN:VEVENT
DTSTART;VALUE=DATE:20080926
DTEND;VALUE=DATE:20080928
TRANSP:TRANSPARENT
X-MICROSOFT-CDO-ALLDAYEVENT:TRUE
SUMMARY:Friends of the Batavia Library - Used Book Sale
DESCRIPTION:Hardcover books\, paperbacks\, CDs\, DVDs\, books on tape and other educational materials will be featured in the Friends First Fall Used Book Sale. Prices range from $0.50 to $2.00! Come find a treasure!
X-ALT-DESC;FMTTYPE=text/html:<DIV style="FONT-FAMILY: Arial" align=left>Hardcover books\, paperbacks\, CDs\, DVDs\, books on tape and other educational materials will be featured in the Friends First Fall Used Book Sale. Prices range from $0.50 to $2.00! Come find a treasure!</DIV>
LOCATION:Batavia Public Library
UID:e.1902.1580
SEQUENCE:3
DTSTAMP:20260422T010011Z
URL:https://business.bataviachamber.org/events/details/friends-of-the-batavia-library-used-book-sale-09-26-2008-1580
END:VEVENT

END:VCALENDAR
