BEGIN:VCALENDAR
VERSION:2.0
PRODID:-//ChamberMaster//Event Calendar 2.0//EN
METHOD:PUBLISH
X-PUBLISHED-TTL:P3D
REFRESH-INTERVAL:P3D
CALSCALE:GREGORIAN
BEGIN:VEVENT
DTSTART:20091010T050000Z
DTEND:20091010T050000Z
X-MICROSOFT-CDO-ALLDAYEVENT:FALSE
SUMMARY:Friends & Family Night
DESCRIPTION:New Store Opening - come for free food\, giveaways and tournaments.\nBring your old games & consoles(retro to modern) to trade.
X-ALT-DESC;FMTTYPE=text/html:New Store Opening - come for free food\, giveaways and tournaments.\nBring your old games & consoles(retro to modern) to trade.
LOCATION:Play N Trade Video Games
UID:e.1902.1054
SEQUENCE:3
DTSTAMP:20260421T011305Z
URL:https://business.bataviachamber.org/events/details/friends-family-night-10-10-2009-1054
END:VEVENT

END:VCALENDAR
