BEGIN:VCALENDAR
VERSION:2.0
PRODID:-//ChamberMaster//Event Calendar 2.0//EN
METHOD:PUBLISH
X-PUBLISHED-TTL:P3D
REFRESH-INTERVAL:P3D
CALSCALE:GREGORIAN
BEGIN:VEVENT
DTSTART:20090410T050000Z
DTEND:20090410T050000Z
X-MICROSOFT-CDO-ALLDAYEVENT:FALSE
SUMMARY:Fridays@5 ~ 'Cause There Is A Need
DESCRIPTION:Join us at Gibby's for a special Fridays@5. A portion of tonight's bar revenue will be donated for our "Cause There Is A Need" recipient\, The Batavia Interfaith Food Pantry. In addition to helping this worthy cause\, you will enjoy delicious wines by the glass\, our small plates menu and live entertainment by James Schlicher.
X-ALT-DESC;FMTTYPE=text/html:Join us at Gibby's for a special Fridays@5. A portion of tonight's bar revenue will be donated for our "Cause There Is A Need" recipient\, The Batavia Interfaith Food Pantry. In addition to helping this worthy cause\, you will enjoy delicious wines by the glass\, our small plates menu and live entertainment by James Schlicher.
LOCATION:Gibby's Wine Den
UID:e.1902.910
SEQUENCE:3
DTSTAMP:20260421T125636Z
URL:https://business.bataviachamber.org/events/details/fridays-5-cause-there-is-a-need-04-10-2009-910
END:VEVENT

END:VCALENDAR
