BEGIN:VCALENDAR
VERSION:2.0
PRODID:-//ChamberMaster//Event Calendar 2.0//EN
METHOD:PUBLISH
X-PUBLISHED-TTL:P3D
REFRESH-INTERVAL:P3D
CALSCALE:GREGORIAN
BEGIN:VEVENT
DTSTART:20090417T050000Z
DTEND:20090417T050000Z
X-MICROSOFT-CDO-ALLDAYEVENT:FALSE
SUMMARY:Fridays@5 ~ A Special Gibby's Anniversary Twilight Tasting
DESCRIPTION:Gibby's thanks you\, our loyal customers for 4 great years of business! To celebrate 4 years of providing service to you and 4 years of finding new wines for us all to enjoy\, Gibby's will be tasting out 4 very special wines\, which will be deeply discounted ~ our thanks to you. Please stop by and enjoy these wines with us as we commemorate our 4 year anniversary and enjoy live musical entertainmentby The Pederson Players
X-ALT-DESC;FMTTYPE=text/html:Gibby's thanks you\, our loyal customers for 4 great years of business! To celebrate 4 years of providing service to you and 4 years of finding new wines for us all to enjoy\, Gibby's will be tasting out 4 very special wines\, which will be deeply discounted ~ our thanks to you. Please stop by and enjoy these wines with us as we commemorate our 4 year anniversary and enjoy live musical entertainmentby The Pederson Players
LOCATION:Gibby's Wine Den
UID:e.1902.918
SEQUENCE:3
DTSTAMP:20260421T125820Z
URL:https://business.bataviachamber.org/events/details/fridays-5-a-special-gibby-s-anniversary-twilight-tasting-04-17-2009-918
END:VEVENT

END:VCALENDAR
