BEGIN:VCALENDAR
VERSION:2.0
PRODID:-//ChamberMaster//Event Calendar 2.0//EN
METHOD:PUBLISH
X-PUBLISHED-TTL:P3D
REFRESH-INTERVAL:P3D
CALSCALE:GREGORIAN
BEGIN:VEVENT
DTSTART:20081107T060000Z
DTEND:20081107T060000Z
X-MICROSOFT-CDO-ALLDAYEVENT:FALSE
SUMMARY:Fridays@5
DESCRIPTION:Come join us around the bar for a great evening with wine by the glass\, small plates from Moveable Feast and live music by James Schlicher!
X-ALT-DESC;FMTTYPE=text/html:Come join us around the bar for a great evening with wine by the glass\, small plates from Moveable Feast and live music by James Schlicher!
LOCATION:Gibby's Wine Den
UID:e.1902.791
SEQUENCE:3
DTSTAMP:20260425T163015Z
URL:https://business.bataviachamber.org/events/details/fridays-5-11-07-2008-791
END:VEVENT

END:VCALENDAR
