BEGIN:VCALENDAR
VERSION:2.0
PRODID:-//ChamberMaster//Event Calendar 2.0//EN
METHOD:PUBLISH
X-PUBLISHED-TTL:P3D
REFRESH-INTERVAL:P3D
CALSCALE:GREGORIAN
BEGIN:VEVENT
DTSTART:20100521T050000Z
DTEND:20100521T050000Z
X-MICROSOFT-CDO-ALLDAYEVENT:FALSE
SUMMARY:Fridays@5
DESCRIPTION:Spring can get very busy. You need to take some time to relax and enjoy the season. Gather with friends for Fridays @ 5 to enjoy musical entertainment by local artists\, Random Acts of Jazz.   Have a glass of wine and a Tidbits selection from our Bar menus.
X-ALT-DESC;FMTTYPE=text/html:Spring can get very busy. You need to take some time to relax and enjoy the season. Gather with friends for Fridays @ 5 to enjoy musical entertainment by local artists\, Random Acts of Jazz.   Have a glass of wine and a Tidbits selection from our Bar menus.\n
LOCATION:Gibby's Wine Den
UID:e.1902.1157
SEQUENCE:3
DTSTAMP:20260424T085616Z
URL:https://business.bataviachamber.org/events/details/fridays-5-05-21-2010-1157
END:VEVENT

END:VCALENDAR
