BEGIN:VCALENDAR
VERSION:2.0
PRODID:-//ChamberMaster//Event Calendar 2.0//EN
METHOD:PUBLISH
X-PUBLISHED-TTL:P3D
REFRESH-INTERVAL:P3D
CALSCALE:GREGORIAN
BEGIN:VEVENT
DTSTART:20090220T060000Z
DTEND:20090220T060000Z
X-MICROSOFT-CDO-ALLDAYEVENT:FALSE
SUMMARY:Fridays@5
DESCRIPTION:Meet us at Gibby's for wine by the glass\, small plates from Moveable Feast and live entertainment byThe Pedersen Players!
X-ALT-DESC;FMTTYPE=text/html:Meet us at Gibby's for wine by the glass\, small plates from Moveable Feast and live entertainment byThe Pedersen Players!
LOCATION:Gibby's Wine Den
UID:e.1902.859
SEQUENCE:3
DTSTAMP:20260425T111045Z
URL:https://business.bataviachamber.org/events/details/fridays-5-02-20-2009-859
END:VEVENT

END:VCALENDAR
