BEGIN:VCALENDAR
VERSION:2.0
PRODID:-//ChamberMaster//Event Calendar 2.0//EN
METHOD:PUBLISH
X-PUBLISHED-TTL:P3D
REFRESH-INTERVAL:P3D
CALSCALE:GREGORIAN
BEGIN:VEVENT
DTSTART:20100517T050000Z
DTEND:20100517T050000Z
X-MICROSOFT-CDO-ALLDAYEVENT:FALSE
SUMMARY:Free Worry and Anxiety Seminar
DESCRIPTION:Adults interested in learning about worry and anxiety are welcome to join TriCity Family Services for a free seminar\, “Worry?  Anxiety?  What Does it Mean?” on Monday\, May 17\, 2010 from 7:00 to 8:00 PM.  \n\nThis seminar will be provided at the TriCity Family Services offices\, located at 1120 Randall Ct. Geneva\, IL 60134.  Attendees will learn what worry and anxiety are and ways to treat them.  The Worry and Anxiety Seminar will be presented by Sheri O’Brien\, LCSW\, Senior Clinician/Consultant atTriCity Family Services.    \n\nThis presentation is open to any adult in the community and refreshments will be provided.  Pre-registration is encouraged\, but not required.  For more information\, please call TriCity Family Services at 630-232-1070.
X-ALT-DESC;FMTTYPE=text/html:Adults interested in learning about worry and anxiety are welcome to join TriCity Family Services for a free seminar\, “Worry?  Anxiety?  What Does it Mean?” on Monday\, May 17\, 2010 from 7:00 to 8:00 PM.  \n\nThis seminar will be provided at the TriCity Family Services offices\, located at 1120 Randall Ct. Geneva\, IL 60134.  Attendees will learn what worry and anxiety are and ways to treat them.  The Worry and Anxiety Seminar will be presented by Sheri O’Brien\, LCSW\, Senior Clinician/Consultant atTriCity Family Services.    \n\nThis presentation is open to any adult in the community and refreshments will be provided.  Pre-registration is encouraged\, but not required.  For more information\, please call TriCity Family Services at 630-232-1070.  \n\n
LOCATION:TriCity Family Services
UID:e.1902.1154
SEQUENCE:3
DTSTAMP:20260420T130703Z
URL:https://business.bataviachamber.org/events/details/free-worry-and-anxiety-seminar-05-17-2010-1154
END:VEVENT

END:VCALENDAR
