BEGIN:VCALENDAR
VERSION:2.0
PRODID:-//ChamberMaster//Event Calendar 2.0//EN
METHOD:PUBLISH
X-PUBLISHED-TTL:P3D
REFRESH-INTERVAL:P3D
CALSCALE:GREGORIAN
BEGIN:VEVENT
DTSTART:20100909T050000Z
DTEND:20100911T050000Z
X-MICROSOFT-CDO-ALLDAYEVENT:FALSE
SUMMARY:Free Pandora Bracelet Event
DESCRIPTION:Free Pandora Bracelet with $150 Purchase of Pandora Charms. 3 days only - don't miss this once a year opportunity. Refreshments and fun will be served!
X-ALT-DESC;FMTTYPE=text/html:Free Pandora Bracelet with $150 Purchase of Pandora Charms. 3 days only - don't miss this once a year opportunity. Refreshments and fun will be served!
LOCATION:
UID:e.1902.56
SEQUENCE:3
DTSTAMP:20260420T061027Z
URL:https://business.bataviachamber.org/events/details/free-pandora-bracelet-event-09-09-2010-56
END:VEVENT

END:VCALENDAR
