BEGIN:VCALENDAR
VERSION:2.0
PRODID:-//ChamberMaster//Event Calendar 2.0//EN
METHOD:PUBLISH
X-PUBLISHED-TTL:P3D
REFRESH-INTERVAL:P3D
CALSCALE:GREGORIAN
BEGIN:VEVENT
DTSTART:20100913T050000Z
DTEND:20100913T050000Z
X-MICROSOFT-CDO-ALLDAYEVENT:FALSE
SUMMARY:Free Gourmet Dinner with Dr. Nathan Conroy\, D.C.
DESCRIPTION:Enjoy delicious food and our most popular wellness talk by Dr. Nathan Conroy\, D.C.  "The Secret to Safe and Permanent Weight Loss."  Seats are limited so call to confirm your reservation and dinner choice today. 630-744-9160
X-ALT-DESC;FMTTYPE=text/html:Enjoy delicious food and our most popular wellness talk by Dr. Nathan Conroy\, D.C.  "The Secret to Safe and Permanent Weight Loss."  Seats are limited so call to confirm your reservation and dinner choice today. 630-744-9160
LOCATION:Tribella Bar and Grill
UID:e.1902.32
SEQUENCE:3
DTSTAMP:20260424T013703Z
URL:https://business.bataviachamber.org/events/details/free-gourmet-dinner-with-dr-nathan-conroy-d-c-09-13-2010-32
END:VEVENT

END:VCALENDAR
