BEGIN:VCALENDAR
VERSION:2.0
PRODID:-//ChamberMaster//Event Calendar 2.0//EN
METHOD:PUBLISH
X-PUBLISHED-TTL:P3D
REFRESH-INTERVAL:P3D
CALSCALE:GREGORIAN
BEGIN:VEVENT
DTSTART:20101030T050000Z
DTEND:20101030T050000Z
X-MICROSOFT-CDO-ALLDAYEVENT:FALSE
SUMMARY:FREE COMPUTER RECYCLING
DESCRIPTION:FREE COMPUTER AND MOBILE DEVICE DROP OFF AND RECYCLING
X-ALT-DESC;FMTTYPE=text/html:FREE COMPUTER AND MOBILE DEVICE DROP OFF AND RECYCLING
LOCATION:1202 NAGEL BLVD.
UID:e.1902.85
SEQUENCE:3
DTSTAMP:20260420T041431Z
URL:https://business.bataviachamber.org/events/details/free-computer-recycling-10-30-2010-85
END:VEVENT

END:VCALENDAR
