BEGIN:VCALENDAR
VERSION:2.0
PRODID:-//ChamberMaster//Event Calendar 2.0//EN
METHOD:PUBLISH
X-PUBLISHED-TTL:P3D
REFRESH-INTERVAL:P3D
CALSCALE:GREGORIAN
BEGIN:VEVENT
DTSTART:20090214T060000Z
DTEND:20090214T060000Z
X-MICROSOFT-CDO-ALLDAYEVENT:FALSE
SUMMARY:FREE Community Workshop
DESCRIPTION:Heart Disease-How you can avoid it and overcoming the Odds!
X-ALT-DESC;FMTTYPE=text/html:Heart Disease-How you can avoid it and overcoming the Odds!
LOCATION:The Chiropractic People
UID:e.1902.844
SEQUENCE:3
DTSTAMP:20260421T162501Z
URL:https://business.bataviachamber.org/events/details/free-community-workshop-02-14-2009-844
END:VEVENT

END:VCALENDAR
