BEGIN:VCALENDAR
VERSION:2.0
PRODID:-//ChamberMaster//Event Calendar 2.0//EN
METHOD:PUBLISH
X-PUBLISHED-TTL:P3D
REFRESH-INTERVAL:P3D
CALSCALE:GREGORIAN
BEGIN:VEVENT
DTSTART:20100820T050000Z
DTEND:20100820T050000Z
X-MICROSOFT-CDO-ALLDAYEVENT:FALSE
SUMMARY:Fraud & Identity Theft- How to Protect Yourself
DESCRIPTION:MB Financial will present ways to protect yourself against identity theft\, scams and fraud
X-ALT-DESC;FMTTYPE=text/html:MB Financial will present ways to protect yourself against identity theft\, scams and fraud
LOCATION:The Holmstad
UID:e.1902.21
SEQUENCE:3
DTSTAMP:20260420T074155Z
URL:https://business.bataviachamber.org/events/details/fraud-identity-theft-how-to-protect-yourself-08-20-2010-21
END:VEVENT

END:VCALENDAR
