BEGIN:VCALENDAR
VERSION:2.0
PRODID:-//ChamberMaster//Event Calendar 2.0//EN
METHOD:PUBLISH
X-PUBLISHED-TTL:P3D
REFRESH-INTERVAL:P3D
CALSCALE:GREGORIAN
BEGIN:VEVENT
DTSTART:20260214T010000Z
DTEND:20260215T050000Z
X-MICROSOFT-CDO-ALLDAYEVENT:FALSE
SUMMARY:Francis Ellis Stand Up Comedy
DESCRIPTION:Francis Ellis is heading to The Comedy Vault February 13-14\, 2026\n\nFrancis Ellis is a comedian\, actor\, personality and writer who currently works at Barstool Sports and can be seen in the Netflix series "Tires" with Shane Gillis.Francis co-hosts Son of a Boy Dad Podcast alongside Lil Sasquatch (aka Harry Settel) and battle rap world champion Adam Ferrone\, and has appeared on Don't Tell Comedy and the sketch comedy series Gilly and Keeves.If you're wondering where he went to college\, he'll happily tell you: Harvard. He performs most nights in New York and has also performed in China\, Australia\, Sweden\, British Columbia\, and across the United States. Francis often incorporates his satirical keyboard songs in his act. He is known for his dry\, dark sense of humor. He resides in Dumbo\, Brooklyn\, when he's not reducing audiences to tears of laughter and shame.\n\n \n\n \n\nThis show is 21+. All persons attending this show are required to show a valid government ID.
X-ALT-DESC;FMTTYPE=text/html:<p><span style="font-size:18px"><em><strong>Francis Ellis is heading to The Comedy Vault February 13-14\, 2026</strong></em></span></p>\n\n<p><strong><a href="https://youtu.be/iUfZfhAuph8">Francis Ellis</a>&nbsp\;</strong>is a comedian\, actor\, personality and writer who currently works at Barstool Sports and can be seen in the Netflix series &quot\;Tires&quot\; with Shane Gillis.Francis co-hosts Son of a Boy Dad Podcast alongside Lil Sasquatch (aka Harry Settel) and battle rap world champion Adam Ferrone\, and has appeared on Don&#39\;t Tell Comedy and the sketch comedy series Gilly and Keeves.If you&#39\;re wondering where he went to college\, he&#39\;ll happily tell you: Harvard. He performs most nights in New York and has also performed in China\, Australia\, Sweden\, British Columbia\, and across the United States. Francis often incorporates his satirical keyboard songs in his act. He is known for his dry\, dark sense of humor. He resides in Dumbo\, Brooklyn\, when he&#39\;s not reducing audiences to tears of laughter and shame.</p>\n\n<p>&nbsp\;</p>\n\n<p>&nbsp\;</p>\n\n<div><strong>This show is 21+. All persons attending this show are required to show a valid government ID.</strong></div>\n
LOCATION:The Comedy Vault
UID:e.1902.30671
SEQUENCE:3
DTSTAMP:20260419T132303Z
URL:https://business.bataviachamber.org/events/details/francis-ellis-stand-up-comedy-30671
END:VEVENT

END:VCALENDAR
