BEGIN:VCALENDAR
VERSION:2.0
PRODID:-//ChamberMaster//Event Calendar 2.0//EN
METHOD:PUBLISH
X-PUBLISHED-TTL:P3D
REFRESH-INTERVAL:P3D
CALSCALE:GREGORIAN
BEGIN:VEVENT
DTSTART;VALUE=DATE:20170108
DTEND;VALUE=DATE:20170109
TRANSP:TRANSPARENT
X-MICROSOFT-CDO-ALLDAYEVENT:TRUE
SUMMARY:Fox Valley Youth Orchestras Auditions
DESCRIPTION:The Fox Valley Academy of Music Performance invites students\, ages 8-18\, to audition for the second half of its 2016-2017 season. Our orchestras are principally looking for string and woodwind players. The FVAMP is comprised of various orchestral ensembles. Its members study challenging music\, work with music professionals\, perform in the Fox Valley community and enjoy the camaraderie of other student-musicians. Auditions on January 8th are at Our Savior Lutheran Church in Aurora. Students should prepare scales\, and a solo or  tude. Call or email to set up an audition time or for more information. Rehearsals begin January 15th at Eden Supportive Living in North Aurora. The Fox Valley Academy of Music Performance includes the Academy Orchestra\, Youth Strings\, Access to Music\, and the adult Philharmonic Orchestra. Ensembles rehearse on Sundays from January through April\, with a summer session in May and June. The Academy Orchestra is the only local orchestra that has "members only" auditions for its Concerto Competition. Members of the FVAMP orchestras represent more than sixteen different communities in the Fox Valley and Chicagoland area. For more information: 630-476-9072\, www.FVacademy.org\, info@FVacademy.org.
X-ALT-DESC;FMTTYPE=text/html:The Fox Valley Academy of Music Performance invites students\, ages 8-18\, to audition for the second half of its 2016-2017 season. Our orchestras are principally looking for string and woodwind players. The FVAMP is comprised of various orchestral ensembles. Its members study challenging music\, work with music professionals\, perform in the Fox Valley community and enjoy the camaraderie of other student-musicians. Auditions on January 8th are at Our Savior Lutheran Church in Aurora. Students should prepare scales\, and a solo or &eacute\;tude. Call or email to set up an audition time or for more information. Rehearsals begin January 15th at Eden Supportive Living in North Aurora. The Fox Valley Academy of Music Performance includes the Academy Orchestra\, Youth Strings\, Access to Music\, and the adult Philharmonic Orchestra. Ensembles rehearse on Sundays from January through April\, with a summer session in May and June. The Academy Orchestra is the only local orchestra that has &ldquo\;members only&rdquo\; auditions for its Concerto Competition. Members of the FVAMP orchestras represent more than sixteen different communities in the Fox Valley and Chicagoland area. For more information: 630-476-9072\, www.FVacademy.org\, info@FVacademy.org.
LOCATION:Our Savior Lutheran Church 420 W Downer Pl\, Aurora
UID:e.1902.6533
SEQUENCE:3
DTSTAMP:20260425T163030Z
URL:https://business.bataviachamber.org/events/details/fox-valley-youth-orchestras-auditions-6533
END:VEVENT

END:VCALENDAR
