BEGIN:VCALENDAR
VERSION:2.0
PRODID:-//ChamberMaster//Event Calendar 2.0//EN
METHOD:PUBLISH
X-PUBLISHED-TTL:P3D
REFRESH-INTERVAL:P3D
CALSCALE:GREGORIAN
BEGIN:VEVENT
DTSTART:20100918T150000Z
DTEND:20100918T190000Z
X-MICROSOFT-CDO-ALLDAYEVENT:FALSE
SUMMARY:Fox Valley Volunteer Fair
DESCRIPTION:This year the Batavia Chamber of Commerce is hosting the volunteer fair created and shepherded for many years by the Batavia League of Women Voters. We sincerely thank Barbara King and the League for this great service.Join us at the Batavia Library to talk with nonprofit organizations throughout the Fox Valley who are looking for volunteers. If you have a few minutes each month...or a few hours...and would like to give back to the community\, join us on September 18 to find out where your passion meets the community's great need.We hope to see you on the 18th between 10:00 a.m. and 2:00 p.m. We will have light refreshments\, door prizes...and LOTS of creative\, friendly people.
X-ALT-DESC;FMTTYPE=text/html:<P align=left><FONT color=#0000ff size=4>This year the Batavia Chamber of Commerce is hosting the volunteer fair created and shepherded for many years by the Batavia League of Women Voters. We sincerely thank Barbara King and the League for this great service.</FONT></P><P align=left><FONT color=#0000ff size=4>Join us at the Batavia Library to talk with nonprofit organizations throughout the Fox Valley who are looking for volunteers. If you have a few minutes each month...or a few hours...and would like to give back to the community\, join us on September 18 to find out where your passion meets the community's great need.</FONT></P><P align=left><FONT color=#0000ff size=4>We hope to see you on the 18th between 10:00 a.m. and 2:00 p.m. We will have light refreshments\, door prizes...and LOTS of creative\, friendly people.</FONT></P>
LOCATION:Batavia Public Library District
UID:e.1902.1373
SEQUENCE:3
DTSTAMP:20260420T060657Z
URL:https://business.bataviachamber.org/events/details/fox-valley-volunteer-fair-09-18-2010-1373
END:VEVENT

END:VCALENDAR
