BEGIN:VCALENDAR
VERSION:2.0
PRODID:-//ChamberMaster//Event Calendar 2.0//EN
METHOD:PUBLISH
X-PUBLISHED-TTL:P3D
REFRESH-INTERVAL:P3D
CALSCALE:GREGORIAN
BEGIN:VEVENT
DTSTART:20101001T050000Z
DTEND:20101003T050000Z
X-MICROSOFT-CDO-ALLDAYEVENT:FALSE
SUMMARY:Fox Valley Oktoberfest
DESCRIPTION:Our Oktoberfest is a family style event complete with carnival that helps us with our operating expenses as a club. It also funds our sister organization\, G.A.T.E.S. (German-American Team of Educational Sponsors). GATES is a 501(c)3 corporation that seeks to give scholarships to high school seniorswanting to study German in college.\nWe are also in need of volunteers in various areas. If interested\, please paste this link into your browser\, skip forward to October and click on "Volunteer Opportunities":\nhttp://www.google.com/calendar/embed?src=06er2r8qes45peeag4mrsg7jio%40group.calendar.google.com&ctz=America/Chicago
X-ALT-DESC;FMTTYPE=text/html:Our Oktoberfest is a family style event complete with carnival that helps us with our operating expenses as a club. It also funds our sister organization\, G.A.T.E.S. (German-American Team of Educational Sponsors). GATES is a 501(c)3 corporation that seeks to give scholarships to high school seniorswanting to study German in college.\nWe are also in need of volunteers in various areas. If interested\, please paste this link into your browser\, skip forward to October and click on "Volunteer Opportunities":\nhttp://www.google.com/calendar/embed?src=06er2r8qes45peeag4mrsg7jio%40group.calendar.google.com&ctz=America/Chicago
LOCATION:Downtown Batavia - Peg Bond Center
UID:e.1902.26
SEQUENCE:3
DTSTAMP:20260420T042326Z
URL:https://business.bataviachamber.org/events/details/fox-valley-oktoberfest-10-01-2010-26
END:VEVENT

END:VCALENDAR
