BEGIN:VCALENDAR
VERSION:2.0
PRODID:-//ChamberMaster//Event Calendar 2.0//EN
METHOD:PUBLISH
X-PUBLISHED-TTL:P3D
REFRESH-INTERVAL:P3D
CALSCALE:GREGORIAN
BEGIN:VEVENT
DTSTART:20240602T210000Z
DTEND:20240602T223000Z
X-MICROSOFT-CDO-ALLDAYEVENT:FALSE
SUMMARY:Fox Valley Jazz Big Band presents "The Modern Big Band"
DESCRIPTION:Jazz up your summer! Hear some of the Fox Valley's top jazz artists performing works from the 21st century: contemporary jazz composers  Maria Schneider\, Callum Au\, Chris Walden and more. And there's more! Concert showcases our first High School Jazz competition winners-- terrific young players! \n\nJeff Ford\, Director
X-ALT-DESC;FMTTYPE=text/html:<span style="font-family:aptos\,sans-serif"><span style="font-size:11.0pt"><strong>Jazz up your summer!</strong><em><strong> </strong></em>Hear some of the Fox Valley&rsquo\;s top jazz artists performing works from the 21st century: contemporary jazz composers &nbsp\;Maria Schneider\, Callum Au\, Chris Walden and more. <strong><u>And there&#39\;s more! Concert showcases our first High School Jazz competition winners-- terrific young players!</u> </strong><br />\nJeff Ford\, Director</span></span>
LOCATION:Aurora Christian Schools Theater 2255 Sullivan Road\, Door 11 Aurora\, IL 60506
UID:e.1902.24640
SEQUENCE:3
DTSTAMP:20260426T020823Z
URL:https://business.bataviachamber.org/events/details/fox-valley-jazz-big-band-presents-the-modern-big-band-24640
END:VEVENT

END:VCALENDAR
