BEGIN:VCALENDAR
VERSION:2.0
PRODID:-//ChamberMaster//Event Calendar 2.0//EN
METHOD:PUBLISH
X-PUBLISHED-TTL:P3D
REFRESH-INTERVAL:P3D
CALSCALE:GREGORIAN
BEGIN:VEVENT
DTSTART;VALUE=DATE:20240314
DTEND;VALUE=DATE:20240315
TRANSP:TRANSPARENT
X-MICROSOFT-CDO-ALLDAYEVENT:TRUE
SUMMARY:Fox Valley Jazz Big Band Opens The 2024 Youth Jazz Competiton!!!
DESCRIPTION:Spread the word to serious young jazz musicians! Fox Valley Jazz Big Band's 2024 Youth Jazz Competition is now open through March 17\, 2023! Details and application form at http://fvjazzbigband.org/index_files/YouthCompetition.htm\n\n \n\nPrizes: $500\, $300\, $200. Selected winners will perform with the Fox Valley Jazz Big Band as a featured soloist on an upcoming performance of the 2024-2025 concert season!
X-ALT-DESC;FMTTYPE=text/html:<p><span style="font-size:14px"><span style="font-family:verdana"><strong><span style="color:#FF0000"><em>Spread the word to serious young jazz musicians!</em></span><span style="color:rgb(0\, 0\, 0) !important"><em> </em>Fox Valley Jazz Big Band&#39\;s 2024 Youth Jazz Competition is now open through March 17\, 2023! Details and application form at&nbsp\;</span><span style="color:rgb(70\, 120\, 134) !important"><u><a class="x_OWAAutoLink" href="http://fvjazzbigband.org/index_files/YouthCompetition.htm" id="OWAb0632f98-751c-534c-8939-95371fe1e1d8" style="border: 0px\; font: inherit\; margin: 0px\; padding: 0px\; vertical-align: baseline\; color: rgb(70\, 120\, 134) !important\;" target="_blank">http://fvjazzbigband.org/index_files/YouthCompetition.htm</a></u></span></strong></span></span></p>\n\n<div>&nbsp\;</div>\n\n<div><span style="font-size:14px"><span style="font-family:verdana"><strong><span style="color:rgb(0\, 0\, 0) !important">Prizes: $500\, $300\, $200. Selected winners will perform with the Fox Valley Jazz Big Band as a featured soloist on an upcoming performance of the 2024-2025 concert season!</span></strong></span></span></div>\n
LOCATION:Video auditions online submitted online only at http://fvjazzbigband.org/index.htm
UID:e.1902.24115
SEQUENCE:3
DTSTAMP:20260419T153110Z
URL:https://business.bataviachamber.org/events/details/fox-valley-jazz-big-band-opens-the-2024-youth-jazz-competiton-03-14-2024-24115
END:VEVENT

END:VCALENDAR
