BEGIN:VCALENDAR
VERSION:2.0
PRODID:-//ChamberMaster//Event Calendar 2.0//EN
METHOD:PUBLISH
X-PUBLISHED-TTL:P3D
REFRESH-INTERVAL:P3D
CALSCALE:GREGORIAN
BEGIN:VEVENT
DTSTART;VALUE=DATE:20240312
DTEND;VALUE=DATE:20240313
TRANSP:TRANSPARENT
X-MICROSOFT-CDO-ALLDAYEVENT:TRUE
SUMMARY:Fox Valley Jazz Big Band Opens The 2024 Youth Jazz Competition!!
DESCRIPTION:Attention\, serious young jazz musicians! Fox Valley Jazz Big Band's 2024 Youth Jazz Competition is now open through March 17\, 2024!  Details and application form: at http://fvjazzbigband.org/index_files/YouthCompetition.htm\n\n\nPrizes: $500\, $300\, $200. Selected winners will perform with the Fox Valley Jazz Big Band as a featured soloist on an upcoming performance of the 2024-2025 concert season!\n\n\n\n\n\nFox Valley Jazz Big Band is a member of the Fox Valley Music Consortium.
X-ALT-DESC;FMTTYPE=text/html:<p><strong><u><span style="color:#FF0000"><span style="font-family:inherit\; font-size:11pt">Attention\, serious young jazz musicians!</span></span></u></strong><span style="color:black !important\; font-family:inherit\; font-size:11pt"> <strong>Fox Valley Jazz Big Band&#39\;s 2024 Youth Jazz Competition is now open through March 17\, 2024!&nbsp\; Details and application form: </strong></span><strong><span style="font-family:inherit\; font-size:11pt">at</span><span style="color:black !important\; font-family:inherit\; font-size:11pt">&nbsp\;</span><u><span style="color:rgb(70\, 120\, 134) !important\; font-family:inherit\; font-size:11pt"><a href="http://fvjazzbigband.org/index_files/YouthCompetition.htm" style="border: 0px\; font: inherit\; margin: 0px\; padding: 0px\; vertical-align: baseline\; color: blue\;"><span style="color:rgb(70\, 120\, 134) !important">http://fvjazzbigband.org/index_files/YouthCompetition.htm</span></a></span></u></strong></p>\n\n<div>\n<p><strong><span style="color:black !important\; font-family:inherit\; font-size:11pt">Prizes: $500\, $300\, $200. Selected winners will perform with the Fox Valley Jazz Big Band as a featured soloist on an upcoming performance of the 2024-2025 concert season!</span></strong></p>\n</div>\n\n<div>\n<p><br />\n<strong><span style="color:black !important\; font-family:inherit\; font-size:11pt">Fox Valley Jazz Big Band is a member of the Fox Valley Music Consortium.</span></strong></p>\n</div>\n
LOCATION:Video auditions online at ?http://fvjazzbigband.org/index_files/YouthCompetition.htm
UID:e.1902.24001
SEQUENCE:3
DTSTAMP:20260419T153143Z
URL:https://business.bataviachamber.org/events/details/fox-valley-jazz-big-band-opens-the-2024-youth-jazz-competition-03-12-2024-24001
END:VEVENT

END:VCALENDAR
