BEGIN:VCALENDAR
VERSION:2.0
PRODID:-//ChamberMaster//Event Calendar 2.0//EN
METHOD:PUBLISH
X-PUBLISHED-TTL:P3D
REFRESH-INTERVAL:P3D
CALSCALE:GREGORIAN
BEGIN:VEVENT
DTSTART:20200312T210000Z
DTEND:20200312T230000Z
X-MICROSOFT-CDO-ALLDAYEVENT:FALSE
SUMMARY:Fox Valley Community Services Ribbon Cutting
DESCRIPTION:Join us as we celebrate our new name with a multi-chamber Ribbon Cutting!\n\n\n\nFox Valley Older Adult Services is now doing business as Fox Valley Community Services. Same great programming and services...nothing has changed\, only our name!\n\n\n\nTours\, Hors d'oeuvres and Beverages\n\n\n\nRibbon cutting with Sandwich\, Plano\, Yorkville and Oswego Chambers of Commerce.
X-ALT-DESC;FMTTYPE=text/html:Join us as we celebrate our new name with a multi-chamber Ribbon Cutting!<br />\n<br />\nFox Valley Older Adult Services is now doing business as Fox Valley Community Services. Same great programming and services...nothing has changed\, only our name!<br />\n<br />\nTours\, Hors d&#39\;oeuvres and Beverages<br />\n<br />\nRibbon cutting with Sandwich\, Plano\, Yorkville and Oswego Chambers of Commerce.&nbsp\;
LOCATION:Fox Valley Community Center 1406 Suydam Road Sandwich\, IL 60548
UID:e.1902.12105
SEQUENCE:3
DTSTAMP:20260422T223440Z
URL:https://business.bataviachamber.org/events/details/fox-valley-community-services-ribbon-cutting-12105
END:VEVENT

END:VCALENDAR
