BEGIN:VCALENDAR
VERSION:2.0
PRODID:-//ChamberMaster//Event Calendar 2.0//EN
METHOD:PUBLISH
X-PUBLISHED-TTL:P3D
REFRESH-INTERVAL:P3D
CALSCALE:GREGORIAN
BEGIN:VEVENT
DTSTART:20090426T050000Z
DTEND:20090426T050000Z
X-MICROSOFT-CDO-ALLDAYEVENT:FALSE
SUMMARY:Fox Trot 5K Run/Walk
DESCRIPTION:The Batavia Mothers' Club Foundation will host its 9th annual Fox Trot 5K Run/Walk at the Batavia Riverwalk.  The 2009 CARA Recommended Certified Race features a scenic course along the Fox River.  Funds raised through this event will support Batavia Public Schools and the Community Education Fund.The cost is $20 per adult ($25 after 4/24) and $8 per child ($10 after 4/24).  You may register online at www.signmeup.com/63393.  Pre-registration is encouraged.   For more information or to register\, please visit www.bataviamothersclub.org.
X-ALT-DESC;FMTTYPE=text/html:The Batavia Mothers' Club Foundation will host its 9th annual Fox Trot 5K Run/Walk at the Batavia Riverwalk.  The 2009 CARA Recommended Certified Race features a scenic course along the Fox River.  Funds raised through this event will support Batavia Public Schools and the Community Education Fund.The cost is $20 per adult ($25 after 4/24) and $8 per child ($10 after 4/24).  You may register online at www.signmeup.com/63393.  Pre-registration is encouraged.   For more information or to register\, please visit www.bataviamothersclub.org.
LOCATION:Batavia Riverwalk
UID:e.1902.902
SEQUENCE:3
DTSTAMP:20260421T125435Z
URL:https://business.bataviachamber.org/events/details/fox-trot-5k-run-walk-04-26-2009-902
END:VEVENT

END:VCALENDAR
