BEGIN:VCALENDAR
VERSION:2.0
PRODID:-//ChamberMaster//Event Calendar 2.0//EN
METHOD:PUBLISH
X-PUBLISHED-TTL:P3D
REFRESH-INTERVAL:P3D
CALSCALE:GREGORIAN
BEGIN:VEVENT
DTSTART:20100306T020000Z
DTEND:20100305T060000Z
X-MICROSOFT-CDO-ALLDAYEVENT:FALSE
SUMMARY:Fox's on the River Grand Opening Celebration
DESCRIPTION:Fox’s Restaurants and Pub celebrates the opening of their Batavia location with a week of entertainment\, and food and drink specials beginning Friday\, March 5th\, 2010 and ending on St. Patrick’s Day (Wednesday\, March 17th\, 2010).  Fox’s serves American cuisine in a family friendly environment and is renowned for their traditional Chicago-style thin crust pizza.Fox’s on the River will offer food and drink specials to celebrate the opening of the Batavia location.  An Irish-themed menu will be available on St. Patrick’s Day.  Mr. Frank Fox\, owner of Fox’s on the River\, states “Fox’s is simply where the Irish meet.  We respect the St. Patrick’s Day holiday immensely.  Since 1964\, my family has provided a first-class St. Patrick’s Day celebration for customers at all of our locations and will do so at our Batavia location as well.”
X-ALT-DESC;FMTTYPE=text/html:<FONT color=#0000ff><P class=MsoNormal style="MARGIN: 0in 0in 0pt\; TEXT-INDENT: 0.5in\; LINE-HEIGHT: 200%\; TEXT-ALIGN: justify" align=left><SPAN style="FONT-SIZE: 10pt\; LINE-HEIGHT: 200%\; FONT-FAMILY: Arial"><FONT color=#000000><FONT size=4>Fox’s Restaurants and Pub celebrates the opening of their <?xml:namespace prefix = st1 ns = "urn:schemas-microsoft-com:office:smarttags" /><st1:City w:st="on"><st1:place w:st="on">Batavia</st1:place></st1:City> location with a week of entertainment\, and food and drink specials beginning Friday\, March 5<SUP>th</SUP>\, 2010 and ending on St. Patrick’s Day (Wednesday\, March 17<SUP>th</SUP>\, 2010). <SPAN style="mso-spacerun: yes">&nbsp\;</SPAN>Fox’s serves American cuisine in a family friendly environment and is renowned for their traditional Chicago-style thin crust pizza.<?xml:namespace prefix = o ns = "urn:schemas-microsoft-com:office:office" /><o:p></o:p></FONT></FONT></SPAN></P><P class=MsoNormal style="MARGIN: 0in 0in 0pt\; TEXT-INDENT: 0.5in\; LINE-HEIGHT: 200%\; TEXT-ALIGN: justify" align=left><SPAN style="FONT-SIZE: 10pt\; LINE-HEIGHT: 200%\; FONT-FAMILY: Arial"><FONT color=#000000><FONT size=4>Fox’s on the River will offer food and drink specials to celebrate the opening of the <st1:City w:st="on"><st1:place w:st="on">Batavia</st1:place></st1:City> location.<SPAN style="mso-spacerun: yes">&nbsp\; </SPAN>An Irish-themed menu will be available on St. Patrick’s Day.<SPAN style="mso-spacerun: yes">&nbsp\; </SPAN>Mr. Frank Fox\, owner of Fox’s on the River\, states “Fox’s is simply where the Irish meet.<SPAN style="mso-spacerun: yes">&nbsp\; </SPAN>We respect the St. Patrick’s Day holiday immensely.<SPAN style="mso-spacerun: yes">&nbsp\; </SPAN>Since 1964\, my family has provided a first-class St. Patrick’s Day celebration for customers at all of our locations and will do so at our <st1:City w:st="on"><st1:place w:st="on">Batavia</st1:place></st1:City> location as well.”<o:p></o:p></FONT></FONT></SPAN></P><P align=left></FONT></P>
LOCATION:Fox's on the River
UID:e.1902.1627
SEQUENCE:3
DTSTAMP:20260420T162158Z
URL:https://business.bataviachamber.org/events/details/fox-s-on-the-river-grand-opening-celebration-03-05-2010-1627
END:VEVENT

END:VCALENDAR
