BEGIN:VCALENDAR
VERSION:2.0
PRODID:-//ChamberMaster//Event Calendar 2.0//EN
METHOD:PUBLISH
X-PUBLISHED-TTL:P3D
REFRESH-INTERVAL:P3D
CALSCALE:GREGORIAN
BEGIN:VEVENT
DTSTART:20110521T050000Z
DTEND:20110521T050000Z
X-MICROSOFT-CDO-ALLDAYEVENT:FALSE
SUMMARY:Fox River Cleanup
DESCRIPTION:Batavians For A Healthy River (BHR) is recruiting volunteers for a Fox River Cleanup in Batavia on Saturday\, May 21\, 8:30 AM to Noon. The group will meet at the parking lot on Rt. 25 by Clark Island and the Skate Park.  The Batavia Park District and the City will be assisting with the clean-up and restoration efforts.  This cleanup will focus on shoreline and river cleanup. Volunteers should dressappropriately and bring work gloves. Trash bags will be provided. A few canoes are needed and volunteers experienced in removal of trash from the river. Those with waders should bring them.\n\nAll Batavia citizens are invited to volunteer for this effort.  Please join us on the 21st to makethis a true community event for the betterment of our environment and our City.  The more volunteers we get\, the more extensive and meaningful will be our river cleanup/ litter and trash removal accomplishment.  Volunteers interested in participating the cleanup can just show up on May 21st. However\, those with questions or any who are organizing small groups to participate can better assist in the planning by contacting Jessi DeMartini at 630-871-7548.  \n\nAll participants will be asked to sign a waiver form. All children must be accompanied by a parent or supervising adult and must have awaiver form signed by a parent or guardian.  For more information and to obtain a waiver in advancevisit the Batavians for a Healthy River Website at www.bataviansforahealthyriver.org.
X-ALT-DESC;FMTTYPE=text/html:Batavians For A Healthy River (BHR) is recruiting volunteers for a Fox River Cleanup in Batavia on Saturday\, May 21\, 8:30 AM to Noon. The group will meet at the parking lot on Rt. 25 by Clark Island and the Skate Park.  The Batavia Park District and the City will be assisting with the clean-up and restoration efforts.  This cleanup will focus on shoreline and river cleanup. Volunteers should dressappropriately and bring work gloves. Trash bags will be provided. A few canoes are needed and volunteers experienced in removal of trash from the river. Those with waders should bring them.\n\nAll Batavia citizens are invited to volunteer for this effort.  Please join us on the 21st to makethis a true community event for the betterment of our environment and our City.  The more volunteers we get\, the more extensive and meaningful will be our river cleanup/ litter and trash removal accomplishment.  Volunteers interested in participating the cleanup can just show up on May 21st. However\, those with questions or any who are organizing small groups to participate can better assist in the planning by contacting Jessi DeMartini at 630-871-7548.  \n\nAll participants will be asked to sign a waiver form. All children must be accompanied by a parent or supervising adult and must have awaiver form signed by a parent or guardian.  For more information and to obtain a waiver in advancevisit the Batavians for a Healthy River Website at www.bataviansforahealthyriver.org.
LOCATION:Rt 25 Near Clark Island near Skate Park
UID:e.1902.208
SEQUENCE:3
DTSTAMP:20260419T163811Z
URL:https://business.bataviachamber.org/events/details/fox-river-cleanup-05-21-2011-208
END:VEVENT

END:VCALENDAR
