BEGIN:VCALENDAR
VERSION:2.0
PRODID:-//ChamberMaster//Event Calendar 2.0//EN
METHOD:PUBLISH
X-PUBLISHED-TTL:P3D
REFRESH-INTERVAL:P3D
CALSCALE:GREGORIAN
BEGIN:VEVENT
DTSTART:20090906T050000Z
DTEND:20090906T050000Z
X-MICROSOFT-CDO-ALLDAYEVENT:FALSE
SUMMARY:Foot Mechanics Half Madness 13.1
DESCRIPTION:Half marathon
X-ALT-DESC;FMTTYPE=text/html:Half marathon
LOCATION:
UID:e.1902.923
SEQUENCE:3
DTSTAMP:20260421T045639Z
URL:https://business.bataviachamber.org/events/details/foot-mechanics-half-madness-13-1-09-06-2009-923
END:VEVENT

END:VCALENDAR
