BEGIN:VCALENDAR
VERSION:2.0
PRODID:-//ChamberMaster//Event Calendar 2.0//EN
METHOD:PUBLISH
X-PUBLISHED-TTL:P3D
REFRESH-INTERVAL:P3D
CALSCALE:GREGORIAN
BEGIN:VEVENT
DTSTART:20091115T060000Z
DTEND:20091115T060000Z
X-MICROSOFT-CDO-ALLDAYEVENT:FALSE
SUMMARY:Folksy Family Festival
DESCRIPTION:Pete Norman of the Fox Valley Folk Music Society will perform at Calvary Episcopal Church on Sunday\,November 15. This afternoon of food\, fellowship and folk music will take place from 3-6 p.m. in aninformal setting that offers fun for the whole family. The public is invited and there is no admission fee\, but a freewill offering will be taken.
X-ALT-DESC;FMTTYPE=text/html:Pete Norman of the Fox Valley Folk Music Society will perform at Calvary Episcopal Church on Sunday\,November 15. This afternoon of food\, fellowship and folk music will take place from 3-6 p.m. in aninformal setting that offers fun for the whole family. The public is invited and there is no admission fee\, but a freewill offering will be taken.
LOCATION:Calvary Episcopal Church
UID:e.1902.1070
SEQUENCE:3
DTSTAMP:20260420T232403Z
URL:https://business.bataviachamber.org/events/details/folksy-family-festival-11-15-2009-1070
END:VEVENT

END:VCALENDAR
