BEGIN:VCALENDAR
VERSION:2.0
PRODID:-//ChamberMaster//Event Calendar 2.0//EN
METHOD:PUBLISH
X-PUBLISHED-TTL:P3D
REFRESH-INTERVAL:P3D
CALSCALE:GREGORIAN
BEGIN:VEVENT
DTSTART:20081106T010000Z
DTEND:20081105T060000Z
X-MICROSOFT-CDO-ALLDAYEVENT:FALSE
SUMMARY:FLIPPIN'' & FLYIN'' fo the Early Childhood Center
DESCRIPTION:The BHS Cheer Teams are collecting money to purchase educational items for the Batavia School District's Early Childhood Center. Checks should be made out to the Batavia Foundation for Educational Excellence. PLEASE SHOW THEM YOU CARE! The Cheer Teams will hold an open house on Novemebr 5 at 7:00 p.m.
X-ALT-DESC;FMTTYPE=text/html:<DIV align=left>The BHS Cheer Teams are collecting money to purchase educational items for the Batavia School District's Early Childhood Center. Checks should be made out to the Batavia Foundation for Educational Excellence.</DIV><DIV align=left>&nbsp\;</DIV><DIV align=center>PLEASE SHOW THEM YOU CARE!</DIV><DIV align=center>&nbsp\;</DIV><DIV align=left>The Cheer Teams will hold an open house on Novemebr 5 at 7:00 p.m. </DIV>
LOCATION:Batavia High School
UID:e.1902.1603
SEQUENCE:3
DTSTAMP:20260421T211806Z
URL:https://business.bataviachamber.org/events/details/flippin-flyin-fo-the-early-childhood-center-11-05-2008-1603
END:VEVENT

END:VCALENDAR
