BEGIN:VCALENDAR
VERSION:2.0
PRODID:-//ChamberMaster//Event Calendar 2.0//EN
METHOD:PUBLISH
X-PUBLISHED-TTL:P3D
REFRESH-INTERVAL:P3D
CALSCALE:GREGORIAN
BEGIN:VEVENT
DTSTART:20091104T060000Z
DTEND:20091104T060000Z
X-MICROSOFT-CDO-ALLDAYEVENT:FALSE
SUMMARY:Flippin' and Flyin' for Honor Flight
DESCRIPTION:This fund raiser is to help send WWII veterans to Washington\, D.C. to see the WWII Memorial
X-ALT-DESC;FMTTYPE=text/html:This fund raiser is to help send WWII veterans to Washington\, D.C. to see the WWII Memorial
LOCATION:Batavia High School
UID:e.1902.1068
SEQUENCE:3
DTSTAMP:20260420T231842Z
URL:https://business.bataviachamber.org/events/details/flippin-and-flyin-for-honor-flight-11-04-2009-1068
END:VEVENT

END:VCALENDAR
