BEGIN:VCALENDAR
VERSION:2.0
PRODID:-//ChamberMaster//Event Calendar 2.0//EN
METHOD:PUBLISH
X-PUBLISHED-TTL:P3D
REFRESH-INTERVAL:P3D
CALSCALE:GREGORIAN
BEGIN:VEVENT
DTSTART:20100228T060000Z
DTEND:20100228T060000Z
X-MICROSOFT-CDO-ALLDAYEVENT:FALSE
SUMMARY:Fermilab Gallery Series - Chicago Early Music Consort
DESCRIPTION:The Chicago Early Music consort performs an afternoon concert of music for lute\, viols\, and sopranoin Fermilab's 2nd Floor Art Gallery.
X-ALT-DESC;FMTTYPE=text/html:The Chicago Early Music consort performs an afternoon concert of music for lute\, viols\, and sopranoin Fermilab's 2nd Floor Art Gallery.
LOCATION:Fermilab's 2nd Floor Art Gallery
UID:e.1902.1121
SEQUENCE:3
DTSTAMP:20260420T175806Z
URL:https://business.bataviachamber.org/events/details/fermilab-gallery-series-chicago-early-music-consort-02-28-2010-1121
END:VEVENT

END:VCALENDAR
