BEGIN:VCALENDAR
VERSION:2.0
PRODID:-//ChamberMaster//Event Calendar 2.0//EN
METHOD:PUBLISH
X-PUBLISHED-TTL:P3D
REFRESH-INTERVAL:P3D
CALSCALE:GREGORIAN
BEGIN:VEVENT
DTSTART:20170213T140000Z
DTEND:20170214T020000Z
X-MICROSOFT-CDO-ALLDAYEVENT:FALSE
SUMMARY:February Frame Sale
DESCRIPTION:20% to 70% off on ALL of our fine frames!  Now is the perfect time to update your eyeglass wardrobe.\n\nIf you do not LOVE your glasses\, come visit Fox Valley Ophthalmology.  We can help you love your glasses again.
X-ALT-DESC;FMTTYPE=text/html:<big><strong>20% to 70% off on ALL of our fine frames! &nbsp\;Now is the perfect time to update your eyeglass wardrobe.<br>\nIf you do not LOVE your glasses\, come visit Fox Valley Ophthalmology. &nbsp\;We can help you love your glasses again.</strong></big>
LOCATION:40W330 LaFox Road\, Suite A St. Charles\, IL 60175
UID:e.1902.6547
SEQUENCE:3
DTSTAMP:20260425T151903Z
URL:https://business.bataviachamber.org/events/details/february-frame-sale-02-13-2017-6547
END:VEVENT

END:VCALENDAR
