BEGIN:VCALENDAR
VERSION:2.0
PRODID:-//ChamberMaster//Event Calendar 2.0//EN
METHOD:PUBLISH
X-PUBLISHED-TTL:P3D
REFRESH-INTERVAL:P3D
CALSCALE:GREGORIAN
BEGIN:VEVENT
DTSTART:20110507T050000Z
DTEND:20110507T050000Z
X-MICROSOFT-CDO-ALLDAYEVENT:FALSE
SUMMARY:Fay's BBQ to Benefit Local Charities
DESCRIPTION:Calvary Episcopal will host a Fay's BBQ on Saturday\, May 7\, from 4:00 to 6:30 p.m.\, offering full chicken\, pork chop and combo dinners as only Fay's can create for just $12 a dinner.\nAll proceeds from the BBQ will go to local charities\; last year the event raised $2600.\nDrive up orders are welcome\, but advance ticket purchase is suggested to avoid disappointment\, as the event sold out last year.Call 630-879-3378 for tickets or more information.
X-ALT-DESC;FMTTYPE=text/html:Calvary Episcopal will host a Fay's BBQ on Saturday\, May 7\, from 4:00 to 6:30 p.m.\, offering full chicken\, pork chop and combo dinners as only Fay's can create for just $12 a dinner.\nAll proceeds from the BBQ will go to local charities\; last year the event raised $2600.\nDrive up orders are welcome\, but advance ticket purchase is suggested to avoid disappointment\, as the event sold out last year.Call 630-879-3378 for tickets or more information.
LOCATION:Calvary Episcopal Church
UID:e.1902.242
SEQUENCE:3
DTSTAMP:20260419T164253Z
URL:https://business.bataviachamber.org/events/details/fay-s-bbq-to-benefit-local-charities-05-07-2011-242
END:VEVENT

END:VCALENDAR
