BEGIN:VCALENDAR
VERSION:2.0
PRODID:-//ChamberMaster//Event Calendar 2.0//EN
METHOD:PUBLISH
X-PUBLISHED-TTL:P3D
REFRESH-INTERVAL:P3D
CALSCALE:GREGORIAN
BEGIN:VEVENT
DTSTART:20090502T050000Z
DTEND:20090502T050000Z
X-MICROSOFT-CDO-ALLDAYEVENT:FALSE
SUMMARY:Fay's BBQ
DESCRIPTION:Join us for this one-of-kind dinner - a favorite throughout northern Illinois!  Choose from chicken\,pork chop or combination dinner with all the fixin's for just $10 per person.  Drive-up orders willbe taken\, but advance ticket purchase is encouraged to avoid disappointment!  To reserve your dinners\, contact Calvary at 630-879-3378 or download an order form from http://calvary-episcopal.org/PDF/FAY%202009.pdf \n\nProceeds from the event will fund both Calvary's outreach ministries\, including many local agencies\, as well as the Calvary Youth Group.
X-ALT-DESC;FMTTYPE=text/html:Join us for this one-of-kind dinner - a favorite throughout northern Illinois!  Choose from chicken\,pork chop or combination dinner with all the fixin's for just $10 per person.  Drive-up orders willbe taken\, but advance ticket purchase is encouraged to avoid disappointment!  To reserve your dinners\, contact Calvary at 630-879-3378 or download an order form from http://calvary-episcopal.org/PDF/FAY%202009.pdf \n\nProceeds from the event will fund both Calvary's outreach ministries\, including many local agencies\, as well as the Calvary Youth Group.\n\n\n
LOCATION:Calvary Episcopal Church
UID:e.1902.938
SEQUENCE:3
DTSTAMP:20260421T105041Z
URL:https://business.bataviachamber.org/events/details/fay-s-bbq-05-02-2009-938
END:VEVENT

END:VCALENDAR
