BEGIN:VCALENDAR
VERSION:2.0
PRODID:-//ChamberMaster//Event Calendar 2.0//EN
METHOD:PUBLISH
X-PUBLISHED-TTL:P3D
REFRESH-INTERVAL:P3D
CALSCALE:GREGORIAN
BEGIN:VEVENT
DTSTART:20090221T060000Z
DTEND:20090221T060000Z
X-MICROSOFT-CDO-ALLDAYEVENT:FALSE
SUMMARY:Fat Saturday Mardi Gras Game Night
DESCRIPTION:Join Calvary for an evening of authentic Cajun food in a festive Mardi Gras atmosphere.  After dinner\, join in a variety of board or card games - or bring your own to share!  Free admission - everyoneis welcome! Call 630-879-3378\, or visit www.calvary-episcopal.org for more information.
X-ALT-DESC;FMTTYPE=text/html:Join Calvary for an evening of authentic Cajun food in a festive Mardi Gras atmosphere.  After dinner\, join in a variety of board or card games - or bring your own to share!  Free admission - everyoneis welcome! Call 630-879-3378\, or visit www.calvary-episcopal.org for more information.
LOCATION:Calvary Episcopal Church
UID:e.1902.846
SEQUENCE:3
DTSTAMP:20260421T161932Z
URL:https://business.bataviachamber.org/events/details/fat-saturday-mardi-gras-game-night-02-21-2009-846
END:VEVENT

END:VCALENDAR
