BEGIN:VCALENDAR
VERSION:2.0
PRODID:-//ChamberMaster//Event Calendar 2.0//EN
METHOD:PUBLISH
X-PUBLISHED-TTL:P3D
REFRESH-INTERVAL:P3D
CALSCALE:GREGORIAN
BEGIN:VEVENT
DTSTART:20100213T060000Z
DTEND:20100213T060000Z
X-MICROSOFT-CDO-ALLDAYEVENT:FALSE
SUMMARY:Fat Saturday Game Night
DESCRIPTION:Ready for a great night of authentic Cajun food and great fellowship\, followed by your favorite cardand board games? Then join us at Calvary Episcopal Church on "Fat Saturday" - the Saturday before Ash Wednesday.\n\nDinner provided\, please BYOB. Feel free to bring your favorite game\, as well. Thisis an adults-only event.
X-ALT-DESC;FMTTYPE=text/html:Ready for a great night of authentic Cajun food and great fellowship\, followed by your favorite cardand board games? Then join us at Calvary Episcopal Church on "Fat Saturday" - the Saturday before Ash Wednesday.\n\nDinner provided\, please BYOB. Feel free to bring your favorite game\, as well. Thisis an adults-only event.
LOCATION:Calvary Episcopal Church
UID:e.1902.1111
SEQUENCE:3
DTSTAMP:20260420T175226Z
URL:https://business.bataviachamber.org/events/details/fat-saturday-game-night-02-13-2010-1111
END:VEVENT

END:VCALENDAR
