BEGIN:VCALENDAR
VERSION:2.0
PRODID:-//ChamberMaster//Event Calendar 2.0//EN
METHOD:PUBLISH
X-PUBLISHED-TTL:P3D
REFRESH-INTERVAL:P3D
CALSCALE:GREGORIAN
BEGIN:VEVENT
DTSTART:20200229T000000Z
DTEND:20200229T020000Z
X-MICROSOFT-CDO-ALLDAYEVENT:FALSE
SUMMARY:Fashion Show
DESCRIPTION:Join us for a night of girl talk\, fashion and shopping! Fashion show starts promptly at 7 p.m. Light refreshments served.
X-ALT-DESC;FMTTYPE=text/html:Join us for a night of girl talk\, fashion and shopping! Fashion show starts promptly at 7 p.m. Light refreshments served.
LOCATION:Paula's Couture Consignment 4.5 W Wilson Street Batavia\, IL
UID:e.1902.11415
SEQUENCE:3
DTSTAMP:20260422T232943Z
URL:https://business.bataviachamber.org/events/details/fashion-show-11415
END:VEVENT

END:VCALENDAR
