BEGIN:VCALENDAR
VERSION:2.0
PRODID:-//ChamberMaster//Event Calendar 2.0//EN
METHOD:PUBLISH
X-PUBLISHED-TTL:P3D
REFRESH-INTERVAL:P3D
CALSCALE:GREGORIAN
BEGIN:VEVENT
DTSTART:20090910T050000Z
DTEND:20090912T050000Z
X-MICROSOFT-CDO-ALLDAYEVENT:FALSE
SUMMARY:Fall Mum Sale
DESCRIPTION:Elderday Center\, along with our Corporate Sponsor\, Bloomin' Colors\, will be selling large Mums in varieties of colors as a fundraiser for the Center.  Mums will sell for $10 each.  Free local deliveryfor orders of 20 or more plants!  Large orders must be placed by September 9.  The sale will be held on the front lawn outside Elderday Center which is located at teh Bethany Ministry Center 8 S. Lincoln St.Batavia.  The front lawn faces Wilson Street. Mums will be available on Thursday\, Friday andSaturday September 10\, 11 and 12\, 2009 from 10 am till 4:00 pm.  If you are interested in purchasing Mums you can call Elderday Center for more information at 630-761-9750 or just stop by the sale.Why not get a large\, fresh Mum just in time for fall and help support a worthwhile program at the same time!  Elderday Center provides quality daytime activities and supervision for senior citizens inthe TriCities and surrounding area.  All proceeds go right back into improving the program for theseniors.
X-ALT-DESC;FMTTYPE=text/html:Elderday Center\, along with our Corporate Sponsor\, Bloomin' Colors\, will be selling large Mums in varieties of colors as a fundraiser for the Center.  Mums will sell for $10 each.  Free local deliveryfor orders of 20 or more plants!  Large orders must be placed by September 9.  The sale will be held on the front lawn outside Elderday Center which is located at teh Bethany Ministry Center 8 S. Lincoln St.Batavia.  The front lawn faces Wilson Street. Mums will be available on Thursday\, Friday andSaturday September 10\, 11 and 12\, 2009 from 10 am till 4:00 pm.  If you are interested in purchasing Mums you can call Elderday Center for more information at 630-761-9750 or just stop by the sale.Why not get a large\, fresh Mum just in time for fall and help support a worthwhile program at the same time!  Elderday Center provides quality daytime activities and supervision for senior citizens inthe TriCities and surrounding area.  All proceeds go right back into improving the program for theseniors.
LOCATION:Elderday Center which is located at the Bethany Ministry Cen
UID:e.1902.998
SEQUENCE:3
DTSTAMP:20260421T030443Z
URL:https://business.bataviachamber.org/events/details/fall-mum-sale-09-10-2009-998
END:VEVENT

END:VCALENDAR
