BEGIN:VCALENDAR
VERSION:2.0
PRODID:-//ChamberMaster//Event Calendar 2.0//EN
METHOD:PUBLISH
X-PUBLISHED-TTL:P3D
REFRESH-INTERVAL:P3D
CALSCALE:GREGORIAN
BEGIN:VEVENT
DTSTART:20080919T220000Z
DTEND:20080920T020000Z
X-MICROSOFT-CDO-ALLDAYEVENT:FALSE
SUMMARY:Fall Arts Walk on the Bridge
DESCRIPTION:Stop in after work on Friday to visit with artists on the bridge and visit the following businesses hosting artists:  Limestone Coffee & Tea/Chris Hodge\; Batavia MainStreet/Fran Stillwagner and Allen+Pepa Architects/architectural sketches and drawings from Lane Allen and Elgin partner Eric Pepa
X-ALT-DESC;FMTTYPE=text/html:<DIV><P class=MsoPlainText><SPAN style="FONT-SIZE: 11pt\; FONT-FAMILY: 'Arial'\,'sans-serif"><FONT face="Times New Roman" size=3>Stop in after work on Friday to visit with artists on the bridge and visit the following businesses hosting artists:&nbsp\; Limestone Coffee &amp\; Tea/Chris Hodge\; Batavia MainStreet/Fran Stillwagner and Allen+Pepa Architects/architectural sketches and drawings from Lane Allen and Elgin partner Eric Pepa</FONT></SPAN></P></DIV>
LOCATION:Downtown Batavia
UID:e.1902.1577
SEQUENCE:3
DTSTAMP:20260422T005427Z
URL:https://business.bataviachamber.org/events/details/fall-arts-walk-on-the-bridge-09-19-2008-1577
END:VEVENT

END:VCALENDAR
